BEGIN:VCALENDAR
VERSION:2.0
PRODID:-//Шабачка гимназија - ECPv6.15.16//NONSGML v1.0//EN
CALSCALE:GREGORIAN
METHOD:PUBLISH
X-WR-CALNAME:Шабачка гимназија
X-ORIGINAL-URL:http://sabackagimnazija.edu.rs
X-WR-CALDESC:Events for Шабачка гимназија
REFRESH-INTERVAL;VALUE=DURATION:PT1H
X-Robots-Tag:noindex
X-PUBLISHED-TTL:PT1H
BEGIN:VTIMEZONE
TZID:UTC
BEGIN:STANDARD
TZOFFSETFROM:+0000
TZOFFSETTO:+0000
TZNAME:UTC
DTSTART:20200101T000000
END:STANDARD
END:VTIMEZONE
BEGIN:VEVENT
DTSTART;TZID=UTC:20210912T160000
DTEND;TZID=UTC:20210912T173000
DTSTAMP:20260421T140503
CREATED:20180816T110220Z
LAST-MODIFIED:20210910T122614Z
UID:5993-1631462400-1631467800@sabackagimnazija.edu.rs
SUMMARY:Караван дигиталних вештина\, писмености и безбедности ”Дигитална експедиција”
DESCRIPTION:Учешће у Каравану дигиталних вештина\, писмености и безбедности ”Дигитална експедиција”  ће узети и 15 ученика Шабачке гимназије\,  како би присуствовали предавању под називом “Ја као медиј”.    Термин за наше ученике  је недеља 12.09.2021. године\,  16:00-17:30 часова.
URL:http://sabackagimnazija.edu.rs/event/karavan-digitalnih-vestina-pismenosti-i-bezbednosti-digitalna-ekspedicija/
LOCATION:Шабачка гимназија\, Масарикова 13\, Шабац\, Србија\, 15000\, Srbija
CATEGORIES:Догађаји
ATTACH;FMTTYPE=image/jpeg:http://sabackagimnazija.edu.rs/wp-content/uploads/2018/08/digitalna-ekspedicija.jpg
END:VEVENT
END:VCALENDAR